BEGIN:VCALENDAR
VERSION:2.0
PRODID:-//Central Valley PTA - ECPv6.15.20//NONSGML v1.0//EN
CALSCALE:GREGORIAN
METHOD:PUBLISH
X-WR-CALNAME:Central Valley PTA
X-ORIGINAL-URL:https://centralvalleypta.org
X-WR-CALDESC:Events for Central Valley PTA
REFRESH-INTERVAL;VALUE=DURATION:PT1H
X-Robots-Tag:noindex
X-PUBLISHED-TTL:PT1H
BEGIN:VTIMEZONE
TZID:America/New_York
BEGIN:DAYLIGHT
TZOFFSETFROM:-0500
TZOFFSETTO:-0400
TZNAME:EDT
DTSTART:20250309T070000
END:DAYLIGHT
BEGIN:STANDARD
TZOFFSETFROM:-0400
TZOFFSETTO:-0500
TZNAME:EST
DTSTART:20251102T060000
END:STANDARD
BEGIN:DAYLIGHT
TZOFFSETFROM:-0500
TZOFFSETTO:-0400
TZNAME:EDT
DTSTART:20260308T070000
END:DAYLIGHT
BEGIN:STANDARD
TZOFFSETFROM:-0400
TZOFFSETTO:-0500
TZNAME:EST
DTSTART:20261101T060000
END:STANDARD
BEGIN:DAYLIGHT
TZOFFSETFROM:-0500
TZOFFSETTO:-0400
TZNAME:EDT
DTSTART:20270314T070000
END:DAYLIGHT
BEGIN:STANDARD
TZOFFSETFROM:-0400
TZOFFSETTO:-0500
TZNAME:EST
DTSTART:20271107T060000
END:STANDARD
END:VTIMEZONE
BEGIN:VEVENT
DTSTART;VALUE=DATE:20260508
DTEND;VALUE=DATE:20260509
DTSTAMP:20260423T110707
CREATED:20260109T165944Z
LAST-MODIFIED:20260109T165944Z
UID:458-1778198400-1778284799@centralvalleypta.org
SUMMARY:Center Grange Grand Finale
DESCRIPTION:
URL:https://centralvalleypta.org/event/center-grange-grand-finale/
END:VEVENT
BEGIN:VEVENT
DTSTART;VALUE=DATE:20260515
DTEND;VALUE=DATE:20260516
DTSTAMP:20260423T110707
CREATED:20260109T170000Z
LAST-MODIFIED:20260109T170000Z
UID:460-1778803200-1778889599@centralvalleypta.org
SUMMARY:Todd Lane Field Day
DESCRIPTION:
URL:https://centralvalleypta.org/event/todd-lane-field-day/
END:VEVENT
BEGIN:VEVENT
DTSTART;TZID=America/New_York:20260519T183000
DTEND;TZID=America/New_York:20260519T193000
DTSTAMP:20260423T110707
CREATED:20260109T170024Z
LAST-MODIFIED:20260109T170024Z
UID:462-1779215400-1779219000@centralvalleypta.org
SUMMARY:PTA Meeting
DESCRIPTION:
URL:https://centralvalleypta.org/event/pta-meeting-4/
LOCATION:Center Grange Library
END:VEVENT
BEGIN:VEVENT
DTSTART;TZID=America/New_York:20260529T080000
DTEND;TZID=America/New_York:20260529T170000
DTSTAMP:20260423T110707
CREATED:20260422T135923Z
LAST-MODIFIED:20260422T135923Z
UID:4780-1780041600-1780074000@centralvalleypta.org
SUMMARY:Last Day of School!
DESCRIPTION:
URL:https://centralvalleypta.org/event/last-day-of-school/
END:VEVENT
END:VCALENDAR