BEGIN:VCALENDAR
VERSION:2.0
PRODID:-//Central Valley PTA - ECPv6.15.20//NONSGML v1.0//EN
CALSCALE:GREGORIAN
METHOD:PUBLISH
X-WR-CALNAME:Central Valley PTA
X-ORIGINAL-URL:https://centralvalleypta.org
X-WR-CALDESC:Events for Central Valley PTA
REFRESH-INTERVAL;VALUE=DURATION:PT1H
X-Robots-Tag:noindex
X-PUBLISHED-TTL:PT1H
BEGIN:VTIMEZONE
TZID:America/New_York
BEGIN:DAYLIGHT
TZOFFSETFROM:-0500
TZOFFSETTO:-0400
TZNAME:EDT
DTSTART:20250309T070000
END:DAYLIGHT
BEGIN:STANDARD
TZOFFSETFROM:-0400
TZOFFSETTO:-0500
TZNAME:EST
DTSTART:20251102T060000
END:STANDARD
BEGIN:DAYLIGHT
TZOFFSETFROM:-0500
TZOFFSETTO:-0400
TZNAME:EDT
DTSTART:20260308T070000
END:DAYLIGHT
BEGIN:STANDARD
TZOFFSETFROM:-0400
TZOFFSETTO:-0500
TZNAME:EST
DTSTART:20261101T060000
END:STANDARD
BEGIN:DAYLIGHT
TZOFFSETFROM:-0500
TZOFFSETTO:-0400
TZNAME:EDT
DTSTART:20270314T070000
END:DAYLIGHT
BEGIN:STANDARD
TZOFFSETFROM:-0400
TZOFFSETTO:-0500
TZNAME:EST
DTSTART:20271107T060000
END:STANDARD
END:VTIMEZONE
BEGIN:VEVENT
DTSTART;TZID=America/New_York:20260302T080000
DTEND;TZID=America/New_York:20260306T170000
DTSTAMP:20260423T110310
CREATED:20260217T230014Z
LAST-MODIFIED:20260217T230014Z
UID:4219-1772438400-1772816400@centralvalleypta.org
SUMMARY:Cereal Drive
DESCRIPTION:Send your cereal boxes into Todd Lane!
URL:https://centralvalleypta.org/event/cereal-drive/
END:VEVENT
BEGIN:VEVENT
DTSTART;TZID=America/New_York:20260307T100000
DTEND;TZID=America/New_York:20260307T120000
DTSTAMP:20260423T110310
CREATED:20260217T225848Z
LAST-MODIFIED:20260217T225848Z
UID:4216-1772877600-1772884800@centralvalleypta.org
SUMMARY:Cookies With Your Rookie
DESCRIPTION:Todd Lane Cafeteria
URL:https://centralvalleypta.org/event/cookies-with-your-rookie/
END:VEVENT
BEGIN:VEVENT
DTSTART;TZID=America/New_York:20260311T083000
DTEND;TZID=America/New_York:20260313T143000
DTSTAMP:20260423T110310
CREATED:20260217T230551Z
LAST-MODIFIED:20260217T230551Z
UID:4225-1773217800-1773412200@centralvalleypta.org
SUMMARY:Kindergarten Registration
DESCRIPTION:Center Grange LGI room.
URL:https://centralvalleypta.org/event/kindergarten-registration/
END:VEVENT
BEGIN:VEVENT
DTSTART;TZID=America/New_York:20260319T080000
DTEND;TZID=America/New_York:20260319T170000
DTSTAMP:20260423T110310
CREATED:20260217T230349Z
LAST-MODIFIED:20260217T230414Z
UID:4222-1773907200-1773939600@centralvalleypta.org
SUMMARY:ONLINE ONLY - Rosalind's Candy Orders Due
DESCRIPTION:All ONLINE ORDERS are due today!
URL:https://centralvalleypta.org/event/online-only-rosalinds-candy-orders-due/
END:VEVENT
BEGIN:VEVENT
DTSTART;TZID=America/New_York:20260326T170000
DTEND;TZID=America/New_York:20260326T190000
DTSTAMP:20260423T110310
CREATED:20260217T225728Z
LAST-MODIFIED:20260217T225728Z
UID:4213-1774544400-1774551600@centralvalleypta.org
SUMMARY:Rosalind's Candy Pickup
DESCRIPTION:Center Grange Cafeteria/Gym
URL:https://centralvalleypta.org/event/rosalinds-candy-pickup/
END:VEVENT
BEGIN:VEVENT
DTSTART;TZID=America/New_York:20260331T080000
DTEND;TZID=America/New_York:20260331T170000
DTSTAMP:20260423T110310
CREATED:20260217T230745Z
LAST-MODIFIED:20260217T230745Z
UID:4229-1774944000-1774976400@centralvalleypta.org
SUMMARY:Grand Finale/Field Day T-Shirt Order Forms Due
DESCRIPTION:PTA will cover the cost of the students’ t-shirts. We just need their name and sizing info.
URL:https://centralvalleypta.org/event/grand-finale-field-day-t-shirt-order-forms-due/
END:VEVENT
END:VCALENDAR